BEGIN:VCALENDAR
PRODID:-//AT Content Types//AT Event//EN
VERSION:2.0
METHOD:PUBLISH
BEGIN:VEVENT
DTSTAMP:20260421T084546Z
CREATED:20221110T103328Z
UID:ATEvent-15aa763356c0496284e01149708ee232
LAST-MODIFIED:20230222T131919Z
SUMMARY:Sapori d'Italia: incontro culinario tra Lombardia ed Emilia-Romagna - (Ass. CREA)
DTSTART:20201126T180000Z
DTEND:20201126T200000Z
DESCRIPTION:Evento organizzato dall'Associazione degli emiliano romagn
 oli in Cina (CREA) in occasione della V Settimana della Cucina Italian
 a nel Mondo
LOCATION:Suzhou (Cina)
URL:https://www.facebook.com/EmilianiRomagnoliinCina/
CLASS:PUBLIC
END:VEVENT
END:VCALENDAR
