BEGIN:VCALENDAR
PRODID:-//AT Content Types//AT Event//EN
VERSION:2.0
METHOD:PUBLISH
BEGIN:VEVENT
DTSTAMP:20260423T083553Z
CREATED:20221110T103328Z
UID:ATEvent-241a3bf6a8c848dbb46a52b6d72263ba
LAST-MODIFIED:20230222T131919Z
SUMMARY:Italia: La scienza in cucina e l’arte di mangiar bene - (Circolo ER San Paolo)
DTSTART:20201129T160000Z
DTEND:20201129T180000Z
DESCRIPTION:Evento online organizzato dal Circolo Emilia-Romagna di Sa
 n Paolo in occasione della V Settimana della cucina italiana nel mondo
  e della Settimana della cucina regionale italiana di San Paolo
LOCATION:Piattaforma Zoom
CLASS:PUBLIC
END:VEVENT
END:VCALENDAR
