BEGIN:VCALENDAR
PRODID:-//AT Content Types//AT Event//EN
VERSION:2.0
METHOD:PUBLISH
BEGIN:VEVENT
DTSTAMP:20260421T125132Z
CREATED:20221110T103028Z
UID:ATEvent-6d79b8b1752647dc80a05f338b5cfbff
LAST-MODIFIED:20230222T132003Z
SUMMARY:IV Plenaria Conferenza Permanente Stato-Regioni-Province Autonome-CGIE
DTSTART:20211215T083000Z
DTEND:20211217T123000Z
LOCATION:Roma (IT)
CLASS:PUBLIC
END:VEVENT
END:VCALENDAR
