BEGIN:VCALENDAR
PRODID:-//AT Content Types//AT Event//EN
VERSION:1.0
BEGIN:VEVENT
DTSTART:20221014T070000Z
DTEND:20221015T160000Z
DCREATED:20221110T102753Z
UID:ATEvent-84696747b79348fcb87a6f045270a8b6
SEQUENCE:0
LAST-MODIFIED:20230222T132102Z
SUMMARY:Riunione della Consulta degli emiliano-romagnoli nel mondo
DESCRIPTION:Riunione annuale della Consulta: dopo due anni da remoto t
 orna in presenza l'appuntamento annuale di confronto dei Consultori it
 aliani ed esteri
LOCATION:Piacenza
PRIORITY:3
TRANSP:0
END:VEVENT
END:VCALENDAR
