BEGIN:VCALENDAR
PRODID:-//AT Content Types//AT Event//EN
VERSION:1.0
BEGIN:VEVENT
DTSTART:20220926T130000Z
DTEND:20220926T130000Z
DCREATED:20221110T102753Z
UID:ATEvent-7ee91c8991ca43b69087567a7abc4fd8
SEQUENCE:0
LAST-MODIFIED:20230222T132103Z
SUMMARY:Presentazione progetto MEMORIA ED IDENTITÀ
DESCRIPTION:Progetto coordinato dall'ISTITUTO FERNANDO SANTI EMILIA RO
 MAGNA APS\, in collaborazione con PONTE TRA CULTURE ITALIA / COLOMBIA 
 / BRASILE con il contributo della Consulta ER
LOCATION:Online
PRIORITY:3
TRANSP:0
END:VEVENT
END:VCALENDAR
