BEGIN:VCALENDAR
PRODID:-//AT Content Types//AT Event//EN
VERSION:2.0
METHOD:PUBLISH
BEGIN:VEVENT
DTSTAMP:20260420T100633Z
CREATED:20180131T155457Z
UID:ATEvent-715dd82b35924c5796dcaa30666a82da
LAST-MODIFIED:20180131T155521Z
SUMMARY:"Corridoi o muri" - laboratorio sui fenomeni migratori
DTSTART:20180219T080000Z
DTEND:20180319T110000Z
DESCRIPTION:Percorso didattico
LOCATION:Sala "G. Fanti" - Assemblea legislativa - viale A.Moro 50 - Bologna
CONTACT:Rosi Manari\, RosaMaria.Manari@regione.emilia-romagna.it
CLASS:PUBLIC
END:VEVENT
END:VCALENDAR
