BEGIN:VCALENDAR
PRODID:-//AT Content Types//AT Event//EN
VERSION:1.0
BEGIN:VEVENT
DTSTART:20130527T083000Z
DTEND:20130527T103000Z
DCREATED:20130527T075337Z
UID:ATEvent-dabdc3b562214a25a54ca88e3c6cc503
SEQUENCE:0
LAST-MODIFIED:20130527T075354Z
SUMMARY:Le scuole elementari in Assemblea
LOCATION:Aula Consiliare\, Assemblea legislativa
PRIORITY:3
TRANSP:0
END:VEVENT
END:VCALENDAR
