BEGIN:VCALENDAR
PRODID:-//AT Content Types//AT Event//EN
VERSION:2.0
METHOD:PUBLISH
BEGIN:VEVENT
DTSTAMP:20260421T084712Z
CREATED:20120702T142928Z
UID:ATEvent-61830fd4b57aa1b0c6d19ea84c3ef55a
LAST-MODIFIED:20121008T104541Z
SUMMARY:Formazione per insegnanti e bibliotecari: primo modulo
DTSTART:20121106T160000Z
DTEND:20121106T180000Z
LOCATION:Biblioteca comunale di Imola
CATEGORIES:seminario
CONTACT:Emiliana Bertolini\, 051/5275352\, ebertolini@regione.emilia-romagna.it
CLASS:PUBLIC
END:VEVENT
END:VCALENDAR
