BEGIN:VCALENDAR
PRODID:-//AT Content Types//AT Event//EN
VERSION:1.0
BEGIN:VEVENT
DTSTART:20140322T220000Z
DTEND:20140322T220000Z
DCREATED:20140226T130917Z
UID:ATEvent-9f8e8791e8db44d38074b75b4075dc3b
SEQUENCE:0
LAST-MODIFIED:20140226T130923Z
SUMMARY:Sport e storia
LOCATION:Liceo Gioia (PC)
PRIORITY:3
TRANSP:0
END:VEVENT
END:VCALENDAR
