BEGIN:VCALENDAR
PRODID:-//AT Content Types//AT Event//EN
VERSION:2.0
METHOD:PUBLISH
BEGIN:VEVENT
DTSTAMP:20260422T083028Z
CREATED:20140311T131558Z
UID:ATEvent-860802ff750844d5a93c85029083fcdc
LAST-MODIFIED:20140311T131604Z
SUMMARY:Promuovere la Legalità
DTSTART:20140412T140000Z
DTEND:20140412T160000Z
LOCATION:Ente gestione parchi
CLASS:PUBLIC
END:VEVENT
END:VCALENDAR
