BEGIN:VCALENDAR
PRODID:-//AT Content Types//AT Event//EN
VERSION:2.0
METHOD:PUBLISH
BEGIN:VEVENT
DTSTAMP:20260423T112521Z
CREATED:20130503T092707Z
UID:ATEvent-c4611ef947854a039024706ab6ddcf51
LAST-MODIFIED:20130503T092850Z
SUMMARY:"Mafie in pentolino"
DTSTART:20130523T073000Z
DTEND:20130523T143000Z
LOCATION:Teatro Verdi\, Forlimpopoli (FC)
CONTACT:Rosa Maria Manari\, 051/527 5583\, rmanari@regione.emilia-romagna.it
URL:http://www.assemblea.emr.it/cittadinanza/attivita-e-servizi/concittadini/concittadini
CLASS:PUBLIC
END:VEVENT
END:VCALENDAR
