BEGIN:VCALENDAR
PRODID:-//AT Content Types//AT Event//EN
VERSION:1.0
BEGIN:VEVENT
DTSTART:20140225T220000Z
DTEND:20140225T220000Z
DCREATED:20140225T092035Z
UID:ATEvent-110912a47d2640fe84f527ffb3057b94
SEQUENCE:0
LAST-MODIFIED:20140225T092105Z
SUMMARY:Le nuove tecnologie e la legalità
LOCATION:IC Portemaggiore (FE)
PRIORITY:3
TRANSP:0
END:VEVENT
END:VCALENDAR
