BEGIN:VCALENDAR
PRODID:-//AT Content Types//AT Event//EN
VERSION:1.0
BEGIN:VEVENT
DTSTART:20140313T090000Z
DTEND:20140313T120000Z
DCREATED:20140218T113947Z
UID:ATEvent-bcd5f5db9fb5448b967f6d14a431fd70
SEQUENCE:0
LAST-MODIFIED:20140218T114203Z
SUMMARY:ITIS Belluzzi (BO) in Assemblea
LOCATION:Aula Consiliare\, Assemblea legislativa
PRIORITY:3
TRANSP:0
END:VEVENT
END:VCALENDAR
