BEGIN:VCALENDAR
PRODID:-//AT Content Types//AT Event//EN
VERSION:1.0
BEGIN:VEVENT
DTSTART:20140404T080000Z
DTEND:20140404T100000Z
DCREATED:20140319T111816Z
UID:ATEvent-a0306afa4742453ea25bed384e87f7e0
SEQUENCE:0
LAST-MODIFIED:20140319T111834Z
SUMMARY:Ist. Prof. Aldrovandi Rubbiani (BO) in Assemblea
LOCATION:Aula Consiliare\, Assemblea legislativa
PRIORITY:3
TRANSP:0
END:VEVENT
END:VCALENDAR
