BEGIN:VCALENDAR
PRODID:-//AT Content Types//AT Event//EN
VERSION:1.0
BEGIN:VEVENT
DTSTART:20160126T114500Z
DTEND:20160226T225500Z
DCREATED:20160119T103815Z
UID:ATEvent-abe8e990c09a4864b224acfa843ec23d
SEQUENCE:0
LAST-MODIFIED:20160127T095624Z
SUMMARY:Visitare la mostra "I genocidi del XX secolo"
LOCATION:V.le Moro 50\, Bologna
PRIORITY:3
TRANSP:0
END:VEVENT
END:VCALENDAR
