BEGIN:VCALENDAR
PRODID:-//AT Content Types//AT Event//EN
VERSION:1.0
BEGIN:VEVENT
DTSTART:20171020T080000Z
DTEND:20171020T110000Z
DCREATED:20171017T112743Z
UID:ATEvent-d9393ae3dc2048eab13eae5b215cc93d
SEQUENCE:0
LAST-MODIFIED:20171017T113017Z
SUMMARY:"Il tuo comportamento favorisce le mafie"
DESCRIPTION:Evento sul tema della Legalità organizzato dall'Assemblea
  legislativa in collaborazione con l’Università di Bologna e l’As
 sociazione culturale antimafia Cortocircuito
LOCATION:Bologna
PRIORITY:3
TRANSP:0
END:VEVENT
END:VCALENDAR
