BEGIN:VCALENDAR
PRODID:-//AT Content Types//AT Event//EN
VERSION:2.0
METHOD:PUBLISH
BEGIN:VEVENT
DTSTAMP:20260421T083309Z
CREATED:20140422T104543Z
UID:ATEvent-39f134354b2141e89b43d45d0e5da2ec
LAST-MODIFIED:20140507T084424Z
SUMMARY:"Il diritto al gioco" a Ravenna
DTSTART:20140525T130000Z
DTEND:20140525T170000Z
LOCATION:Associazione La Lucertola
CLASS:PUBLIC
END:VEVENT
END:VCALENDAR
