BEGIN:VCALENDAR
PRODID:-//AT Content Types//AT Event//EN
VERSION:1.0
BEGIN:VEVENT
DTSTART:20151109T230000Z
DTEND:20151111T225500Z
DCREATED:20151021T121721Z
UID:ATEvent-c16ea6ee8f6a42c39666d869cfd374cc
SEQUENCE:0
LAST-MODIFIED:20151021T121744Z
SUMMARY:Il centenario della Prima Guerra Mondiale
LOCATION:Museo ebraico\, Bologna
PRIORITY:3
TRANSP:0
END:VEVENT
END:VCALENDAR
