BEGIN:VCALENDAR
PRODID:-//AT Content Types//AT Event//EN
VERSION:2.0
METHOD:PUBLISH
BEGIN:VEVENT
DTSTAMP:20260423T083109Z
CREATED:20170220T103826Z
UID:ATEvent-dd59730dd5704544864a384f25e80876
LAST-MODIFIED:20170228T131408Z
SUMMARY:Il 23 marzo in Assemblea legislativa un Convegno sulla Cittadinanza attiva e conCittadini
DTSTART:20170323T080000Z
DTEND:20170323T120000Z
DESCRIPTION:Convegno
CONTACT:alcittadinanza@regione.emilia-romagna.it
URL:http://www.assemblea.emr.i/cittadinanza/attivita/conCittadini/concittadini-un-patto-di-cittadinanza-fra-istituzioni-scuola-e-territorio
CLASS:PUBLIC
END:VEVENT
END:VCALENDAR
