BEGIN:VCALENDAR
PRODID:-//AT Content Types//AT Event//EN
VERSION:2.0
METHOD:PUBLISH
BEGIN:VEVENT
DTSTAMP:20260423T081734Z
CREATED:20170317T101335Z
UID:ATEvent-e3495864ab104471bc2fcb04fab56584
LAST-MODIFIED:20170317T101357Z
SUMMARY:Il 20 aprile il Parco di Vedrana  intitolato alla partigiana Osanna Stagni
DTSTART:20170420T083000Z
DTEND:20170420T100000Z
URL:http://www.assemblea.emr.it/cittadinanza/attivita/conCittadini/informazioni-generali/i-soggetti-coinvolti/2016-2017/d/lotte-di-liberta
CLASS:PUBLIC
END:VEVENT
END:VCALENDAR
