BEGIN:VCALENDAR
PRODID:-//AT Content Types//AT Event//EN
VERSION:2.0
METHOD:PUBLISH
BEGIN:VEVENT
DTSTAMP:20260422T082851Z
CREATED:20140218T135425Z
UID:ATEvent-1007681342e84dd89d2b40b9ce5a0823
LAST-MODIFIED:20140218T135435Z
SUMMARY:IC Sant’Agata Bolognese in Assemblea
DTSTART:20140328T090000Z
DTEND:20140328T113000Z
LOCATION:Aula Consiliare\, Assemblea legislativa
CATEGORIES:visite
CONTACT:Laura Bordoni\, 051/527 5884 - 5583\, lbordoni@regione.emilia-romagna.it
CLASS:PUBLIC
END:VEVENT
END:VCALENDAR
