BEGIN:VCALENDAR
PRODID:-//AT Content Types//AT Event//EN
VERSION:1.0
BEGIN:VEVENT
DTSTART:20140310T083000Z
DTEND:20140310T120000Z
DCREATED:20140303T115057Z
UID:ATEvent-3d5887523fad46d784f049b2ce6bc56b
SEQUENCE:0
LAST-MODIFIED:20140303T115129Z
SUMMARY:"Habitat"\, incontro sulla legalità
LOCATION:IC Dante Aligheri (FE)
PRIORITY:3
TRANSP:0
END:VEVENT
END:VCALENDAR
