BEGIN:VCALENDAR
PRODID:-//AT Content Types//AT Event//EN
VERSION:1.0
BEGIN:VEVENT
DTSTART:20130510T150000Z
DTEND:20130510T170000Z
DCREATED:20130508T081737Z
UID:ATEvent-85c68f9296864ce1b060e1a0486c6d8b
SEQUENCE:0
LAST-MODIFIED:20130508T081743Z
SUMMARY:"Disegna Memoria"\, un progetto di didattica laboratoriale
LOCATION:Liceo Matilde di Canossa (RE)
PRIORITY:3
TRANSP:0
END:VEVENT
END:VCALENDAR
