BEGIN:VCALENDAR
PRODID:-//AT Content Types//AT Event//EN
VERSION:2.0
METHOD:PUBLISH
BEGIN:VEVENT
DTSTAMP:20260421T084025Z
CREATED:20130314T093425Z
UID:ATEvent-abde5f98e99345e39f77075f6a57ae9d
LAST-MODIFIED:20130314T094719Z
SUMMARY:"Diamoci una regolata"\, un gioco sulle regole
DTSTART:20130320T133000Z
DTEND:20130320T150000Z
LOCATION:Mauriziano\, Via Pasteur\, 11,Reggio Emilia
CONTACT:Rosa Maria Manari\, 051/527 5583\, rmanari@regione.emilia-romagna.it
URL:http://www.assemblea.emr.it/cittadinanza/attivita-e-servizi/concittadini/concittadini
CLASS:PUBLIC
END:VEVENT
END:VCALENDAR
