BEGIN:VCALENDAR
PRODID:-//AT Content Types//AT Event//EN
VERSION:2.0
METHOD:PUBLISH
BEGIN:VEVENT
DTSTAMP:20260422T083221Z
CREATED:20140319T112901Z
UID:ATEvent-3d096975c78e435e85f07d90bf453274
LAST-MODIFIED:20140430T074019Z
SUMMARY:CTP Fabio Besta e Liceo Laura Bassi in Assemblea
DTSTART:20140508T140000Z
DTEND:20140508T163000Z
LOCATION:Aula Consiliare\, Assemblea legislativa
CATEGORIES:visite
CONTACT:Laura Bordoni\, 051/527 5884 - 5583\, lbordoni@regione.emilia-romagna.it
CLASS:PUBLIC
END:VEVENT
END:VCALENDAR
