BEGIN:VCALENDAR
PRODID:-//AT Content Types//AT Event//EN
VERSION:2.0
METHOD:PUBLISH
BEGIN:VEVENT
DTSTAMP:20260422T082703Z
CREATED:20140211T102019Z
UID:ATEvent-b2a41555ffd84fd58d6c025aba2c12cb
LAST-MODIFIED:20140211T102035Z
SUMMARY:CTP Fabio Besta (BO) in Assemblea
DTSTART:20140224T090000Z
DTEND:20140224T110000Z
LOCATION:Aula Consiliare\, Assemblea legislativa
CATEGORIES:visite
CONTACT:Laura Bordoni\, 051/527 5884 - 5583 \, lbordoni@regione.emilia-romagna.it
CLASS:PUBLIC
END:VEVENT
END:VCALENDAR
