BEGIN:VCALENDAR
PRODID:-//AT Content Types//AT Event//EN
VERSION:1.0
BEGIN:VEVENT
DTSTART:20140416T080000Z
DTEND:20140416T100000Z
DCREATED:20140306T090208Z
UID:ATEvent-faf9eb7860334302968cc1f32a4a4a15
SEQUENCE:0
LAST-MODIFIED:20140306T090214Z
SUMMARY:Cittadinanza e responsabilità
LOCATION:Comune di Budrio
PRIORITY:3
TRANSP:0
END:VEVENT
END:VCALENDAR
