BEGIN:VCALENDAR
PRODID:-//AT Content Types//AT Event//EN
VERSION:2.0
METHOD:PUBLISH
BEGIN:VEVENT
DTSTAMP:20260423T083738Z
CREATED:20260305T083749Z
UID:ATEvent-a3e41bf921d34a63b3da28dd02bd855e
LAST-MODIFIED:20260311T132509Z
SUMMARY:Vittime e impatti delle mafie in Emilia Romagna\, tra reati economici\, violenza e controllo sociale
DTSTART:20260313T140000Z
DTEND:20260313T170000Z
LOCATION:Forlì\, Campus universitario\, aula 4
CATEGORIES:Associazione Libera Emilia-Romagna, Legalità
CLASS:PUBLIC
END:VEVENT
END:VCALENDAR
