BEGIN:VCALENDAR
PRODID:-//AT Content Types//AT Event//EN
VERSION:1.0
BEGIN:VEVENT
DTSTART:20260317T194500Z
DTEND:20260317T213000Z
DCREATED:20260311T083817Z
UID:ATEvent-d961015a55ee4534ae4f6eaf446f7a1d
SEQUENCE:0
LAST-MODIFIED:20260311T083829Z
SUMMARY:Presentazione del libro ‘U Maxi. Dentro il processo a Cosa Nostra
LOCATION:Vignola\, Teatro Cantelli
PRIORITY:3
TRANSP:0
END:VEVENT
END:VCALENDAR
