BEGIN:VCALENDAR
PRODID:-//AT Content Types//AT Event//EN
VERSION:2.0
METHOD:PUBLISH
BEGIN:VEVENT
DTSTAMP:20260423T110533Z
CREATED:20260310T103318Z
UID:ATEvent-75b148bf63984504b777c85fbe782a38
LAST-MODIFIED:20260310T143922Z
SUMMARY:Mediateca Cineclub: The Harvest
DTSTART:20260317T200000Z
DTEND:20260317T220000Z
LOCATION:San Lazzaro di di Savena\, Mediateca
CATEGORIES:Legalità
CLASS:PUBLIC
END:VEVENT
END:VCALENDAR
