BEGIN:VCALENDAR
PRODID:-//AT Content Types//AT Event//EN
VERSION:1.0
BEGIN:VEVENT
DTSTART:20260318T103000Z
DTEND:20260318T113000Z
DCREATED:20260304T154635Z
UID:ATEvent-a2a512756aad4c6292f62734dd107007
SEQUENCE:0
LAST-MODIFIED:20260304T154646Z
SUMMARY:Inaugurazione della Casa sociale per donne vittime di violenza
LOCATION:Carpaneto Piacentino
PRIORITY:3
TRANSP:0
END:VEVENT
END:VCALENDAR
