BEGIN:VCALENDAR
PRODID:-//AT Content Types//AT Event//EN
VERSION:1.0
BEGIN:VEVENT
DTSTART:20260320T090000Z
DTEND:20260320T110000Z
DCREATED:20260311T084802Z
UID:ATEvent-1cce8c41f46f41f5b69b8a0bd430aaf8
SEQUENCE:0
LAST-MODIFIED:20260311T084813Z
SUMMARY:Generazione libera. Ridare senso ai diritti
LOCATION:Bologna\, Piazza Lucio Dalla
PRIORITY:3
TRANSP:0
END:VEVENT
END:VCALENDAR
