BEGIN:VCALENDAR
PRODID:-//AT Content Types//AT Event//EN
VERSION:2.0
METHOD:PUBLISH
BEGIN:VEVENT
DTSTAMP:20260423T110530Z
CREATED:20260310T104108Z
UID:ATEvent-dbc0e0eaf6b04577afe930a2707c5aa4
LAST-MODIFIED:20260310T143824Z
SUMMARY:Fare legalità insieme
DTSTART:20260317T160000Z
DTEND:20260317T170000Z
LOCATION:San Lazzaro di di Savena\, Auditorium della Scuola secondaria di 1° grado Jussi,
CATEGORIES:Legalità
CLASS:PUBLIC
END:VEVENT
END:VCALENDAR
