BEGIN:VCALENDAR
PRODID:-//AT Content Types//AT Event//EN
VERSION:2.0
METHOD:PUBLISH
BEGIN:VEVENT
DTSTAMP:20260423T110532Z
CREATED:20260305T094624Z
UID:ATEvent-eeffa1d7bce2412885be64bc4c344462
LAST-MODIFIED:20260310T142720Z
SUMMARY:100 Passi verso il 21 marzo. Incontro con Donato Ungaro: come le mafie sono cambiate
DTSTART:20260316T170000Z
DTEND:20260316T210000Z
LOCATION:Cervia
CATEGORIES:Associazione Libera Emilia-Romagna, Legalità
CLASS:PUBLIC
END:VEVENT
END:VCALENDAR
