BEGIN:VCALENDAR
PRODID:-//AT Content Types//AT Event//EN
VERSION:1.0
BEGIN:VEVENT
DTSTART:20251021T123000Z
DTEND:20251021T150000Z
DCREATED:20251016T174728Z
UID:ATEvent-55cf1afc9a87485e9965d8f35ea9b345
SEQUENCE:0
LAST-MODIFIED:20251016T174740Z
SUMMARY:Clust-ER dell'Emilia-Romgna: se ne parla in Commissione Economia in congiunta con Statuto
LOCATION:sala Guido Fanti\, viale Aldo Moro 50\, Bologna
PRIORITY:3
TRANSP:0
END:VEVENT
END:VCALENDAR
