BEGIN:VCALENDAR
PRODID:-//AT Content Types//AT Event//EN
VERSION:1.0
BEGIN:VEVENT
DTSTART:20260304T133000Z
DTEND:20260304T163000Z
DCREATED:20260226T091718Z
UID:ATEvent-843bc0dc1fb44606bc9baba3d043db0f
SEQUENCE:0
LAST-MODIFIED:20260226T091904Z
SUMMARY:Piano 2025-2029 dell'Agenda Digitale: audizione in Commissione Statuto e Commissione Bilancio
LOCATION:sala Guido Fanti\, viale Aldo Moro 50\, Bologna
PRIORITY:3
TRANSP:0
END:VEVENT
END:VCALENDAR
