BEGIN:VCALENDAR
PRODID:-//AT Content Types//AT Event//EN
VERSION:1.0
BEGIN:VEVENT
DTSTART:20260304T090000Z
DTEND:20260304T110000Z
DCREATED:20260227T112529Z
UID:ATEvent-20a9eb15b93b44e0ba493b9371aba041
SEQUENCE:0
LAST-MODIFIED:20260227T140808Z
SUMMARY:Illustrazione legge regionale sul clima in Commissione territorio
LOCATION:Sala B-C - Viale Aldo Moro 50\, Bologna
PRIORITY:3
TRANSP:0
END:VEVENT
END:VCALENDAR
