BEGIN:VCALENDAR
PRODID:-//AT Content Types//AT Event//EN
VERSION:1.0
BEGIN:VEVENT
DTSTART:20260219T143000Z
DTEND:20260219T163000Z
DCREATED:20260213T100029Z
UID:ATEvent-95f03d0d4558413cbc4ce462c7120166
SEQUENCE:0
LAST-MODIFIED:20260213T100049Z
SUMMARY:Informativa su legge quadro Cultura in Commissione Parità-Cultura
LOCATION:saletta B/C\, viale Aldo Moro 50\, Bologna
PRIORITY:3
TRANSP:0
END:VEVENT
END:VCALENDAR
