BEGIN:VCALENDAR
PRODID:-//AT Content Types//AT Event//EN
VERSION:1.0
BEGIN:VEVENT
DTSTART:20260421T080000Z
DTEND:20260421T100000Z
DCREATED:20260417T131340Z
UID:ATEvent-f2049d8175574f659bd9c74efcb86bc7
SEQUENCE:0
LAST-MODIFIED:20260417T131346Z
SUMMARY:Relazione su norme inclusione Rom e sinti\, progetto di legge su trapianti e risoluzioni in Commissione Politiche salute e sociali
LOCATION:saletta B/C\, viale Aldo Moro 50\, Bologna
PRIORITY:3
TRANSP:0
END:VEVENT
END:VCALENDAR
