BEGIN:VCALENDAR
PRODID:-//AT Content Types//AT Event//EN
VERSION:1.0
BEGIN:VEVENT
DTSTART:20260422T123000Z
DTEND:20260422T143000Z
DCREATED:20260417T081257Z
UID:ATEvent-7067e8d2d7af496db014988d97a58f50
SEQUENCE:0
LAST-MODIFIED:20260417T081302Z
SUMMARY:Commissione Bilancio: risoluzione per fiscalità incentivante per aree montane
LOCATION:sala Guido Fanti\, viale Aldo Moro 50\, Bologna
PRIORITY:3
TRANSP:0
END:VEVENT
END:VCALENDAR
