BEGIN:VCALENDAR
PRODID:-//AT Content Types//AT Event//EN
VERSION:1.0
BEGIN:VEVENT
DTSTART:20230411T123000Z
DTEND:20230411T143000Z
DCREATED:20230407T105102Z
UID:ATEvent-fa75ce657059445c84b90f16ea161d1f
SEQUENCE:0
LAST-MODIFIED:20230407T105138Z
SUMMARY:Scuola\, formazione e università\, le riforme del Pnrr in Commissione Bilancio e Politiche economiche
LOCATION:Sala Guido Fanti\, Assemblea legislativa\, viale Aldo Moro 50\, Bologna
PRIORITY:3
TRANSP:0
END:VEVENT
END:VCALENDAR
