BEGIN:VCALENDAR
PRODID:-//AT Content Types//AT Event//EN
VERSION:1.0
BEGIN:VEVENT
DTSTART:20230406T113000Z
DTEND:20230406T133000Z
DCREATED:20230331T091238Z
UID:ATEvent-0bd16e5265394f2d9ef06c0cbb2d8e85
SEQUENCE:0
LAST-MODIFIED:20230407T060328Z
SUMMARY:Impianti fotovoltaici  e loro diffusione\, se ne discute in Commissione Territorio
LOCATION:Sala Guido Fanti\, Assemblea legislativa\, viale Aldo Moro 50\, Bologna
PRIORITY:3
TRANSP:0
END:VEVENT
END:VCALENDAR
